BEGIN:VCALENDAR
VERSION:2.0
PRODID:icalendar-ruby
CALSCALE:GREGORIAN
METHOD:PUBLISH
BEGIN:VEVENT
DTSTAMP:20260423T004401Z
UID:562b5dc5-fbb5-40ab-9f17-4caae22eb361
DTSTART;VALUE=DATE:20181103
DTEND;VALUE=DATE:20181103
DESCRIPTION:Grand Valley BMX
LOCATION:2785 U.S. Highway 50  Grand Junction CO 81503 USA
SUMMARY:Clinic
URL:/site/bmx_races/387969
END:VEVENT
END:VCALENDAR
