BEGIN:VCALENDAR
VERSION:2.0
PRODID:icalendar-ruby
CALSCALE:GREGORIAN
METHOD:PUBLISH
BEGIN:VEVENT
DTSTAMP:20260419T150724Z
UID:3caa523c-0b43-47d0-9698-4511d1e6d44b
DTSTART;VALUE=DATE:20180610
DTEND;VALUE=DATE:20180610
DESCRIPTION:Elings Park BMX Raceway
LOCATION:1298 Las Positas Rd  Santa Barbara CA 93105 USA
SUMMARY:Standard Single Single
URL:/site/bmx_races/388175
END:VEVENT
END:VCALENDAR
