BEGIN:VCALENDAR
VERSION:2.0
PRODID:icalendar-ruby
CALSCALE:GREGORIAN
METHOD:PUBLISH
BEGIN:VEVENT
DTSTAMP:20260423T092420Z
UID:a5b61add-86c0-4114-b94e-877ff5e30af2
DTSTART;VALUE=DATE:20180831
DTEND;VALUE=DATE:20180831
DESCRIPTION:Langley BMX
LOCATION:4375 206 St Langley  Langley BC V3A 3B1 CAN
SUMMARY:Standard Single Single
URL:/site/bmx_races/389023
END:VEVENT
END:VCALENDAR
