BEGIN:VCALENDAR
VERSION:2.0
PRODID:icalendar-ruby
CALSCALE:GREGORIAN
METHOD:PUBLISH
BEGIN:VEVENT
DTSTAMP:20260419T155525Z
UID:8bb136c0-f5a2-4f90-8db1-4ed49486c55f
DTSTART;VALUE=DATE:20181106
DTEND;VALUE=DATE:20181106
DESCRIPTION:Shelby Farms BMX
LOCATION:6435 Walnut Grove Rd  Memphis TN 38119 USA
SUMMARY:Standard Single Single
URL:/site/bmx_races/389101
END:VEVENT
END:VCALENDAR
