BEGIN:VCALENDAR
VERSION:2.0
PRODID:icalendar-ruby
CALSCALE:GREGORIAN
METHOD:PUBLISH
BEGIN:VEVENT
DTSTAMP:20260421T103349Z
UID:a1efa4b8-0426-4172-9458-710ab17f4fdc
DTSTART;VALUE=DATE:20130227
DTEND;VALUE=DATE:20130227
DESCRIPTION:Oak Creek BMX
LOCATION:648 Riverside Ave  Roseville CA 95678 USA
SUMMARY:Local Race Single
URL:/site/bmx_races/38923
END:VEVENT
END:VCALENDAR
