BEGIN:VCALENDAR
VERSION:2.0
PRODID:icalendar-ruby
CALSCALE:GREGORIAN
METHOD:PUBLISH
BEGIN:VEVENT
DTSTAMP:20260421T085342Z
UID:64635d61-4e09-40ae-abec-ae8da5a16688
DTSTART;VALUE=DATE:20130316
DTEND;VALUE=DATE:20130316
DESCRIPTION:Oak Creek BMX
LOCATION:648 Riverside Ave  Roseville CA 95678 USA
SUMMARY:Local Race Single
URL:/site/bmx_races/38933
END:VEVENT
END:VCALENDAR
