BEGIN:VCALENDAR
VERSION:2.0
PRODID:icalendar-ruby
CALSCALE:GREGORIAN
METHOD:PUBLISH
BEGIN:VEVENT
DTSTAMP:20260424T163349Z
UID:0ff57944-2d1f-4f06-9618-3c8a330dd6dc
DTSTART;VALUE=DATE:20180823
DTEND;VALUE=DATE:20180823
DESCRIPTION:Circle City BMX
LOCATION:Westgate Park    100 Recreation Rd Dothan AL 36305 USA
SUMMARY:Standard Single Single
URL:/site/bmx_races/389460
END:VEVENT
END:VCALENDAR
