BEGIN:VCALENDAR
VERSION:2.0
PRODID:icalendar-ruby
CALSCALE:GREGORIAN
METHOD:PUBLISH
BEGIN:VEVENT
DTSTAMP:20260421T071136Z
UID:31954ab1-cddc-4c17-89fb-308a946c24fe
DTSTART;VALUE=DATE:20130413
DTEND;VALUE=DATE:20130413
DESCRIPTION:Oak Creek BMX
LOCATION:648 Riverside Ave  Roseville CA 95678 USA
SUMMARY:Local Race Single
URL:/site/bmx_races/38949
END:VEVENT
END:VCALENDAR
