BEGIN:VCALENDAR
VERSION:2.0
PRODID:icalendar-ruby
CALSCALE:GREGORIAN
METHOD:PUBLISH
BEGIN:VEVENT
DTSTAMP:20260425T232937Z
UID:3dbf516a-75d1-4aa3-ae90-6e8cab2e854d
DTSTART;VALUE=DATE:20181014
DTEND;VALUE=DATE:20181014
DESCRIPTION:Fond Du Lac BMX Club
LOCATION:307 N Hickory St  Fond Du lac WI 54935 USA
SUMMARY:Warnicke Single
URL:/site/bmx_races/389525
END:VEVENT
END:VCALENDAR
