BEGIN:VCALENDAR
VERSION:2.0
PRODID:icalendar-ruby
CALSCALE:GREGORIAN
METHOD:PUBLISH
BEGIN:VEVENT
DTSTAMP:20260421T052746Z
UID:f7ea1508-f81a-47d6-bb81-ba5383e0d82d
DTSTART;VALUE=DATE:20130516
DTEND;VALUE=DATE:20130516
DESCRIPTION:Oak Creek BMX
LOCATION:648 Riverside Ave  Roseville CA 95678 USA
SUMMARY:Local Race Single
URL:/site/bmx_races/38968
END:VEVENT
END:VCALENDAR
