BEGIN:VCALENDAR
VERSION:2.0
PRODID:icalendar-ruby
CALSCALE:GREGORIAN
METHOD:PUBLISH
BEGIN:VEVENT
DTSTAMP:20260421T052747Z
UID:d69a89c6-7a26-49b8-931c-b45c595c8d4c
DTSTART;VALUE=DATE:20130530
DTEND;VALUE=DATE:20130530
DESCRIPTION:Oak Creek BMX
LOCATION:648 Riverside Ave  Roseville CA 95678 USA
SUMMARY:Local Race Single
URL:/site/bmx_races/38976
END:VEVENT
END:VCALENDAR
