BEGIN:VCALENDAR
VERSION:2.0
PRODID:icalendar-ruby
CALSCALE:GREGORIAN
METHOD:PUBLISH
BEGIN:VEVENT
DTSTAMP:20260422T230855Z
UID:92194658-e692-44bb-9e42-6de12279187d
DTSTART;VALUE=DATE:20180915
DTEND;VALUE=DATE:20180915
DESCRIPTION:Air Time BMX
LOCATION:5051 S Frankwood Ave  Reedley CA 93654 USA
SUMMARY:Standard Single Single
URL:/site/bmx_races/390143
END:VEVENT
END:VCALENDAR
