BEGIN:VCALENDAR
VERSION:2.0
PRODID:icalendar-ruby
CALSCALE:GREGORIAN
METHOD:PUBLISH
BEGIN:VEVENT
DTSTAMP:20260420T211847Z
UID:35bc5405-0de1-4d85-ad80-8cc7caeb9969
DTSTART;VALUE=DATE:20131006
DTEND;VALUE=DATE:20131006
DESCRIPTION:Oak Creek BMX
LOCATION:648 Riverside Ave  Roseville CA 95678 USA
SUMMARY:Local Race Single
URL:/site/bmx_races/39050
END:VEVENT
END:VCALENDAR
