BEGIN:VCALENDAR
VERSION:2.0
PRODID:icalendar-ruby
CALSCALE:GREGORIAN
METHOD:PUBLISH
BEGIN:VEVENT
DTSTAMP:20260425T104124Z
UID:168950f9-9276-48a0-a547-598a8eed2c74
DTSTART;VALUE=DATE:20190130
DTEND;VALUE=DATE:20190130
DESCRIPTION:Boulder BMX\, Inc
LOCATION:1799 Commons Way  Boulder City NV 89005 USA
SUMMARY:Practice
URL:/site/bmx_races/391363
END:VEVENT
END:VCALENDAR
