BEGIN:VCALENDAR
VERSION:2.0
PRODID:icalendar-ruby
CALSCALE:GREGORIAN
METHOD:PUBLISH
BEGIN:VEVENT
DTSTAMP:20260424T191538Z
UID:cd3dd9d6-e550-4fd5-b1eb-8b6bea8dcf40
DTSTART;VALUE=DATE:20191120
DTEND;VALUE=DATE:20191120
DESCRIPTION:Boulder BMX\, Inc
LOCATION:1799 Commons Way  Boulder City NV 89005 USA
SUMMARY:Practice
URL:/site/bmx_races/391415
END:VEVENT
END:VCALENDAR
