BEGIN:VCALENDAR
VERSION:2.0
PRODID:icalendar-ruby
CALSCALE:GREGORIAN
METHOD:PUBLISH
BEGIN:VEVENT
DTSTAMP:20260424T232503Z
UID:3b39106c-fe18-4fbc-9f05-bf798d257c3a
DTSTART;VALUE=DATE:20190816
DTEND;VALUE=DATE:20190816
DESCRIPTION:Boulder BMX\, Inc
LOCATION:1799 Commons Way  Boulder City NV 89005 USA
SUMMARY:Standard Single Single
URL:/site/bmx_races/391466
END:VEVENT
END:VCALENDAR
