BEGIN:VCALENDAR
VERSION:2.0
PRODID:icalendar-ruby
CALSCALE:GREGORIAN
METHOD:PUBLISH
BEGIN:VEVENT
DTSTAMP:20260424T174600Z
UID:74815cdf-e15a-4c3e-9f12-c923ce6b82af
DTSTART;VALUE=DATE:20191213
DTEND;VALUE=DATE:20191213
DESCRIPTION:Boulder BMX\, Inc
LOCATION:1799 Commons Way  Boulder City NV 89005 USA
SUMMARY:Standard Single Single
URL:/site/bmx_races/391483
END:VEVENT
END:VCALENDAR
