BEGIN:VCALENDAR
VERSION:2.0
PRODID:icalendar-ruby
CALSCALE:GREGORIAN
METHOD:PUBLISH
BEGIN:VEVENT
DTSTAMP:20260419T125104Z
UID:0205a244-e593-4240-9b90-b0e2bfe8465f
DTSTART;VALUE=DATE:20190917
DTEND;VALUE=DATE:20190917
DESCRIPTION:Sand Springs BMX
LOCATION:2600 S River City Park Rd  Sand Springs OK 74063 USA
SUMMARY:Practice
URL:/site/bmx_races/391680
END:VEVENT
END:VCALENDAR
