BEGIN:VCALENDAR
VERSION:2.0
PRODID:icalendar-ruby
CALSCALE:GREGORIAN
METHOD:PUBLISH
BEGIN:VEVENT
DTSTAMP:20260423T082615Z
UID:8123b394-b069-4ddc-a0fb-82f3dc37c348
DTSTART;VALUE=DATE:20181214
DTEND;VALUE=DATE:20181214
DESCRIPTION:Tucson BMX
LOCATION:9245 E Irvington  Tucson AZ 85730 USA
SUMMARY:Earned Double
URL:/site/bmx_races/391997
END:VEVENT
END:VCALENDAR
