BEGIN:VCALENDAR
VERSION:2.0
PRODID:icalendar-ruby
CALSCALE:GREGORIAN
METHOD:PUBLISH
BEGIN:VEVENT
DTSTAMP:20260423T210109Z
UID:f42177bf-4b21-45cc-ae0e-200b078a078e
DTSTART;VALUE=DATE:20130618
DTEND;VALUE=DATE:20130618
DESCRIPTION:Santa Clara PAL BMX
LOCATION:5401 Lafayette Street  Santa Clara CA 95051 USA
SUMMARY:Local Race Single
URL:/site/bmx_races/39249
END:VEVENT
END:VCALENDAR
