BEGIN:VCALENDAR
VERSION:2.0
PRODID:icalendar-ruby
CALSCALE:GREGORIAN
METHOD:PUBLISH
BEGIN:VEVENT
DTSTAMP:20260423T130029Z
UID:4b68f29c-e7e9-41b6-8375-0208858f031c
DTSTART;VALUE=DATE:20190829
DTEND;VALUE=DATE:20190829
DESCRIPTION:Cedar BMX
LOCATION:Red Barn Village Rd  Clarks Summit PA 18644 USA
SUMMARY:Standard Single Single
URL:/site/bmx_races/392869
END:VEVENT
END:VCALENDAR
