BEGIN:VCALENDAR
VERSION:2.0
PRODID:icalendar-ruby
CALSCALE:GREGORIAN
METHOD:PUBLISH
BEGIN:VEVENT
DTSTAMP:20260419T141254Z
UID:44ed7db5-cccd-427b-a1bc-a476b756ae88
DTSTART;VALUE=DATE:20190915
DTEND;VALUE=DATE:20190915
DESCRIPTION:Bonzai BMX
LOCATION:7201 Arlene Laman Dr  N. Little Rock AR 72118 USA
SUMMARY:Standard Single Single
URL:/site/bmx_races/393503
END:VEVENT
END:VCALENDAR
