BEGIN:VCALENDAR
VERSION:2.0
PRODID:icalendar-ruby
CALSCALE:GREGORIAN
METHOD:PUBLISH
BEGIN:VEVENT
DTSTAMP:20260422T095912Z
UID:28b350a1-59de-4f29-88c9-2f254aac1591
DTSTART;VALUE=DATE:20190709
DTEND;VALUE=DATE:20190709
DESCRIPTION:Marquette BMX
LOCATION:910 Hawley Street  Marquette MI 49855 USA
SUMMARY:Standard Single Single
URL:/site/bmx_races/393550
END:VEVENT
END:VCALENDAR
