BEGIN:VCALENDAR
VERSION:2.0
PRODID:icalendar-ruby
CALSCALE:GREGORIAN
METHOD:PUBLISH
BEGIN:VEVENT
DTSTAMP:20260425T203838Z
UID:aa406367-2491-4418-a71e-5978d26824fb
DTSTART;VALUE=DATE:20190505
DTEND;VALUE=DATE:20190505
DESCRIPTION:Noonday BMX
LOCATION:547 Shallowford Rd Ne  Marietta GA 30144 USA
SUMMARY:Standard Single Single
URL:/site/bmx_races/393740
END:VEVENT
END:VCALENDAR
