BEGIN:VCALENDAR
VERSION:2.0
PRODID:icalendar-ruby
CALSCALE:GREGORIAN
METHOD:PUBLISH
BEGIN:VEVENT
DTSTAMP:20260425T234654Z
UID:65ab930f-d2af-4611-bbc2-0156a8c65141
DTSTART;VALUE=DATE:20190712
DTEND;VALUE=DATE:20190712
DESCRIPTION:St. Cloud BMX
LOCATION:2401 Peghorn Way  St. Cloud FL 34769 USA
SUMMARY:Standard Single Single
URL:/site/bmx_races/394109
END:VEVENT
END:VCALENDAR
