BEGIN:VCALENDAR
VERSION:2.0
PRODID:icalendar-ruby
CALSCALE:GREGORIAN
METHOD:PUBLISH
BEGIN:VEVENT
DTSTAMP:20260423T000805Z
UID:a52e3a5a-0a32-448b-ba4f-f5e606780bc3
DTSTART;VALUE=DATE:20190820
DTEND;VALUE=DATE:20190820
DESCRIPTION:Goodyear BMX Raceway
LOCATION:15660 W Roeser Rd  Goodyear AZ 85338 USA
SUMMARY:Local Race Single
URL:/site/bmx_races/394390
END:VEVENT
END:VCALENDAR
