BEGIN:VCALENDAR
VERSION:2.0
PRODID:icalendar-ruby
CALSCALE:GREGORIAN
METHOD:PUBLISH
BEGIN:VEVENT
DTSTAMP:20260421T203910Z
UID:47a57fec-6803-4d68-b868-a97ce32c606b
DTSTART;VALUE=DATE:20190627
DTEND;VALUE=DATE:20190627
DESCRIPTION:County Line BMX
LOCATION:8560 South Colorado Blvd  Centennial CO 80126 USA
SUMMARY:Practice
URL:/site/bmx_races/394426
END:VEVENT
END:VCALENDAR
