BEGIN:VCALENDAR
VERSION:2.0
PRODID:icalendar-ruby
CALSCALE:GREGORIAN
METHOD:PUBLISH
BEGIN:VEVENT
DTSTAMP:20260423T162900Z
UID:a874b7dd-1d00-454a-8121-0a0f7f220edb
DTSTART;VALUE=DATE:20190206
DTEND;VALUE=DATE:20190206
DESCRIPTION:Ed Fountain Park BMX Raceway
LOCATION:1400 N Decatur Blvd  Las Vegas NV 89108 USA
SUMMARY:Clinic
URL:/site/bmx_races/394562
END:VEVENT
END:VCALENDAR
