BEGIN:VCALENDAR
VERSION:2.0
PRODID:icalendar-ruby
CALSCALE:GREGORIAN
METHOD:PUBLISH
BEGIN:VEVENT
DTSTAMP:20260423T162841Z
UID:fefbf530-fe85-4264-b35e-fd21590fd5ff
DTSTART;VALUE=DATE:20190227
DTEND;VALUE=DATE:20190227
DESCRIPTION:Ed Fountain Park BMX Raceway
LOCATION:1400 N Decatur Blvd  Las Vegas NV 89108 USA
SUMMARY:Clinic
URL:/site/bmx_races/394568
END:VEVENT
END:VCALENDAR
