BEGIN:VCALENDAR
VERSION:2.0
PRODID:icalendar-ruby
CALSCALE:GREGORIAN
METHOD:PUBLISH
BEGIN:VEVENT
DTSTAMP:20260423T072554Z
UID:094521cd-ab7e-4ceb-b046-68d43f1f1c2b
DTSTART;VALUE=DATE:20190724
DTEND;VALUE=DATE:20190724
DESCRIPTION:Ed Fountain Park BMX Raceway
LOCATION:1400 N Decatur Blvd  Las Vegas NV 89108 USA
SUMMARY:Clinic
URL:/site/bmx_races/394610
END:VEVENT
END:VCALENDAR
