BEGIN:VCALENDAR
VERSION:2.0
PRODID:icalendar-ruby
CALSCALE:GREGORIAN
METHOD:PUBLISH
BEGIN:VEVENT
DTSTAMP:20260423T040832Z
UID:cb54a7b4-8528-4e63-873d-32c975ca45b6
DTSTART;VALUE=DATE:20190911
DTEND;VALUE=DATE:20190911
DESCRIPTION:Ed Fountain Park BMX Raceway
LOCATION:1400 N Decatur Blvd  Las Vegas NV 89108 USA
SUMMARY:Clinic
URL:/site/bmx_races/394623
END:VEVENT
END:VCALENDAR
