BEGIN:VCALENDAR
VERSION:2.0
PRODID:icalendar-ruby
CALSCALE:GREGORIAN
METHOD:PUBLISH
BEGIN:VEVENT
DTSTAMP:20260423T055337Z
UID:4cf5535d-cdda-459d-bd7b-41fc2a398341
DTSTART;VALUE=DATE:20190822
DTEND;VALUE=DATE:20190822
DESCRIPTION:Ed Fountain Park BMX Raceway
LOCATION:1400 N Decatur Blvd  Las Vegas NV 89108 USA
SUMMARY:Standard Single Single
URL:/site/bmx_races/394737
END:VEVENT
END:VCALENDAR
