BEGIN:VCALENDAR
VERSION:2.0
PRODID:icalendar-ruby
CALSCALE:GREGORIAN
METHOD:PUBLISH
BEGIN:VEVENT
DTSTAMP:20260423T020914Z
UID:3f661143-2dd7-4d47-8d46-c5f7a0e4428f
DTSTART;VALUE=DATE:20190825
DTEND;VALUE=DATE:20190825
DESCRIPTION:Mayes County BMX
LOCATION:526 Airport Rd At Hwy 69 S  Pryor OK 74363 USA
SUMMARY:State Race Double
URL:/site/bmx_races/394780
END:VEVENT
END:VCALENDAR
