BEGIN:VCALENDAR
VERSION:2.0
PRODID:icalendar-ruby
CALSCALE:GREGORIAN
METHOD:PUBLISH
BEGIN:VEVENT
DTSTAMP:20260421T212901Z
UID:3d4a027d-ff1c-4e2d-8299-fa4c11fb9eb6
DTSTART;VALUE=DATE:20190327
DTEND;VALUE=DATE:20190327
DESCRIPTION:Peninsula Indoor BMX
LOCATION:5867 Dogwood Road Se  Port Orchard WA 98367 USA
SUMMARY:Practice
URL:/site/bmx_races/395354
END:VEVENT
END:VCALENDAR
