BEGIN:VCALENDAR
VERSION:2.0
PRODID:icalendar-ruby
CALSCALE:GREGORIAN
METHOD:PUBLISH
BEGIN:VEVENT
DTSTAMP:20260421T151542Z
UID:bd695260-c76a-4645-8593-53e71ecf4716
DTSTART;VALUE=DATE:20190703
DTEND;VALUE=DATE:20190703
DESCRIPTION:Peninsula Indoor BMX
LOCATION:5867 Dogwood Road Se  Port Orchard WA 98367 USA
SUMMARY:Practice
URL:/site/bmx_races/395368
END:VEVENT
END:VCALENDAR
