BEGIN:VCALENDAR
VERSION:2.0
PRODID:icalendar-ruby
CALSCALE:GREGORIAN
METHOD:PUBLISH
BEGIN:VEVENT
DTSTAMP:20260421T151629Z
UID:c30f6218-8ae3-4695-ab30-a631a48fb85e
DTSTART;VALUE=DATE:20190710
DTEND;VALUE=DATE:20190710
DESCRIPTION:Peninsula Indoor BMX
LOCATION:5867 Dogwood Road Se  Port Orchard WA 98367 USA
SUMMARY:Practice
URL:/site/bmx_races/395369
END:VEVENT
END:VCALENDAR
