BEGIN:VCALENDAR
VERSION:2.0
PRODID:icalendar-ruby
CALSCALE:GREGORIAN
METHOD:PUBLISH
BEGIN:VEVENT
DTSTAMP:20260421T132746Z
UID:756952fd-00ea-4fa5-9274-19c8c2b37e0d
DTSTART;VALUE=DATE:20190821
DTEND;VALUE=DATE:20190821
DESCRIPTION:Peninsula Indoor BMX
LOCATION:5867 Dogwood Road Se  Port Orchard WA 98367 USA
SUMMARY:Practice
URL:/site/bmx_races/395375
END:VEVENT
END:VCALENDAR
