BEGIN:VCALENDAR
VERSION:2.0
PRODID:icalendar-ruby
CALSCALE:GREGORIAN
METHOD:PUBLISH
BEGIN:VEVENT
DTSTAMP:20260421T120210Z
UID:b8a00bc3-16cc-4ae6-8160-5ef54eb4a9a4
DTSTART;VALUE=DATE:20190904
DTEND;VALUE=DATE:20190904
DESCRIPTION:Peninsula Indoor BMX
LOCATION:5867 Dogwood Road Se  Port Orchard WA 98367 USA
SUMMARY:Practice
URL:/site/bmx_races/395377
END:VEVENT
END:VCALENDAR
