BEGIN:VCALENDAR
VERSION:2.0
PRODID:icalendar-ruby
CALSCALE:GREGORIAN
METHOD:PUBLISH
BEGIN:VEVENT
DTSTAMP:20260421T084154Z
UID:22e52121-6931-482e-b10e-b7d6e7d24c26
DTSTART;VALUE=DATE:20191106
DTEND;VALUE=DATE:20191106
DESCRIPTION:Peninsula Indoor BMX
LOCATION:5867 Dogwood Road Se  Port Orchard WA 98367 USA
SUMMARY:Practice
URL:/site/bmx_races/395386
END:VEVENT
END:VCALENDAR
