BEGIN:VCALENDAR
VERSION:2.0
PRODID:icalendar-ruby
CALSCALE:GREGORIAN
METHOD:PUBLISH
BEGIN:VEVENT
DTSTAMP:20260421T071157Z
UID:048f13e2-fcda-482d-8c75-21f09d29f36d
DTSTART;VALUE=DATE:20191206
DTEND;VALUE=DATE:20191206
DESCRIPTION:Peninsula Indoor BMX
LOCATION:5867 Dogwood Road Se  Port Orchard WA 98367 USA
SUMMARY:Standard Single Single
URL:/site/bmx_races/395507
END:VEVENT
END:VCALENDAR
