BEGIN:VCALENDAR
VERSION:2.0
PRODID:icalendar-ruby
CALSCALE:GREGORIAN
METHOD:PUBLISH
BEGIN:VEVENT
DTSTAMP:20260419T190447Z
UID:4f555db3-1ec2-42ff-9cea-e22e962b9a76
DTSTART;VALUE=DATE:20190621
DTEND;VALUE=DATE:20190621
DESCRIPTION:Tri-City BMX
LOCATION:520 Burdeck St  Schenectady NY 12306 USA
SUMMARY:Standard Single Single
URL:/site/bmx_races/395524
END:VEVENT
END:VCALENDAR
