BEGIN:VCALENDAR
VERSION:2.0
PRODID:icalendar-ruby
CALSCALE:GREGORIAN
METHOD:PUBLISH
BEGIN:VEVENT
DTSTAMP:20260424T051611Z
UID:979ec082-ae3d-4be9-89c2-0bc4be7d9ecf
DTSTART;VALUE=DATE:20190830
DTEND;VALUE=DATE:20190830
DESCRIPTION:Tri-City BMX
LOCATION:520 Burdeck St  Schenectady NY 12306 USA
SUMMARY:Standard Single Single
URL:/site/bmx_races/395543
END:VEVENT
END:VCALENDAR
