BEGIN:VCALENDAR
VERSION:2.0
PRODID:icalendar-ruby
CALSCALE:GREGORIAN
METHOD:PUBLISH
BEGIN:VEVENT
DTSTAMP:20260424T070121Z
UID:7ac77529-b615-4c8c-9429-d49617c0ad14
DTSTART;VALUE=DATE:20190611
DTEND;VALUE=DATE:20190611
DESCRIPTION:Westmoreland BMX
LOCATION:200 Park Road  Apollo PA 15613 USA
SUMMARY:Standard Single Single
URL:/site/bmx_races/396060
END:VEVENT
END:VCALENDAR
