BEGIN:VCALENDAR
VERSION:2.0
PRODID:icalendar-ruby
CALSCALE:GREGORIAN
METHOD:PUBLISH
BEGIN:VEVENT
DTSTAMP:20260423T082528Z
UID:fb8fd714-2edf-4a4b-83c0-a60e899cbcaa
DTSTART;VALUE=DATE:20191001
DTEND;VALUE=DATE:20191001
DESCRIPTION:Westmoreland BMX
LOCATION:200 Park Road  Apollo PA 15613 USA
SUMMARY:Standard Single Single
URL:/site/bmx_races/396076
END:VEVENT
END:VCALENDAR
