BEGIN:VCALENDAR
VERSION:2.0
PRODID:icalendar-ruby
CALSCALE:GREGORIAN
METHOD:PUBLISH
BEGIN:VEVENT
DTSTAMP:20260424T051735Z
UID:da233cfd-1861-4491-9a46-2986be782233
DTSTART;VALUE=DATE:20190918
DTEND;VALUE=DATE:20190918
DESCRIPTION:Lake Shore BMX
LOCATION:Scott Park 2700 West 6th St Erie PA 16505 USA
SUMMARY:Standard Single Single
URL:/site/bmx_races/396212
END:VEVENT
END:VCALENDAR
