BEGIN:VCALENDAR
VERSION:2.0
PRODID:icalendar-ruby
CALSCALE:GREGORIAN
METHOD:PUBLISH
BEGIN:VEVENT
DTSTAMP:20260425T214519Z
UID:6a8598f5-f87d-4719-af43-8ae20115c4ad
DTSTART;VALUE=DATE:20190110
DTEND;VALUE=DATE:20190110
DESCRIPTION:Tucson BMX
LOCATION:9245 E Irvington  Tucson AZ 85730 USA
SUMMARY:Practice
URL:/site/bmx_races/396327
END:VEVENT
END:VCALENDAR
