BEGIN:VCALENDAR
VERSION:2.0
PRODID:icalendar-ruby
CALSCALE:GREGORIAN
METHOD:PUBLISH
BEGIN:VEVENT
DTSTAMP:20260425T202257Z
UID:aa6e5d4c-0b45-4cbf-a8df-face8e145369
DTSTART;VALUE=DATE:20190228
DTEND;VALUE=DATE:20190228
DESCRIPTION:Tucson BMX
LOCATION:9245 E Irvington  Tucson AZ 85730 USA
SUMMARY:Practice
URL:/site/bmx_races/396341
END:VEVENT
END:VCALENDAR
