BEGIN:VCALENDAR
VERSION:2.0
PRODID:icalendar-ruby
CALSCALE:GREGORIAN
METHOD:PUBLISH
BEGIN:VEVENT
DTSTAMP:20260425T130738Z
UID:f7000b25-4ce2-444f-877c-6b87825a6ddc
DTSTART;VALUE=DATE:20190606
DTEND;VALUE=DATE:20190606
DESCRIPTION:Tucson BMX
LOCATION:9245 E Irvington  Tucson AZ 85730 USA
SUMMARY:Practice
URL:/site/bmx_races/396369
END:VEVENT
END:VCALENDAR
