BEGIN:VCALENDAR
VERSION:2.0
PRODID:icalendar-ruby
CALSCALE:GREGORIAN
METHOD:PUBLISH
BEGIN:VEVENT
DTSTAMP:20260423T202905Z
UID:30194523-eff9-46f6-8b5c-1a221eb417b6
DTSTART;VALUE=DATE:20191025
DTEND;VALUE=DATE:20191025
DESCRIPTION:Tucson BMX
LOCATION:9245 E Irvington  Tucson AZ 85730 USA
SUMMARY:Standard Single Single
URL:/site/bmx_races/396410
END:VEVENT
END:VCALENDAR
