BEGIN:VCALENDAR
VERSION:2.0
PRODID:icalendar-ruby
CALSCALE:GREGORIAN
METHOD:PUBLISH
BEGIN:VEVENT
DTSTAMP:20260424T014127Z
UID:ab2eb0e4-161d-4eee-858e-c9179d12f10a
DTSTART;VALUE=DATE:20191101
DTEND;VALUE=DATE:20191101
DESCRIPTION:Central Jersey BMX
LOCATION:2449 U.S. 9  Howell NJ 7731 USA
SUMMARY:Standard Single Single
URL:/site/bmx_races/396718
END:VEVENT
END:VCALENDAR
